BEGIN:VCALENDAR
VERSION:2.0
PRODID:-//Burritt On The Mountain - ECPv6.15.16//NONSGML v1.0//EN
CALSCALE:GREGORIAN
METHOD:PUBLISH
X-WR-CALNAME:Burritt On The Mountain
X-ORIGINAL-URL:https://burrittonthemountain.com
X-WR-CALDESC:Events for Burritt On The Mountain
REFRESH-INTERVAL;VALUE=DURATION:PT1H
X-Robots-Tag:noindex
X-PUBLISHED-TTL:PT1H
BEGIN:VTIMEZONE
TZID:America/Chicago
BEGIN:DAYLIGHT
TZOFFSETFROM:-0600
TZOFFSETTO:-0500
TZNAME:CDT
DTSTART:20250309T080000
END:DAYLIGHT
BEGIN:STANDARD
TZOFFSETFROM:-0500
TZOFFSETTO:-0600
TZNAME:CST
DTSTART:20251102T070000
END:STANDARD
BEGIN:DAYLIGHT
TZOFFSETFROM:-0600
TZOFFSETTO:-0500
TZNAME:CDT
DTSTART:20260308T080000
END:DAYLIGHT
BEGIN:STANDARD
TZOFFSETFROM:-0500
TZOFFSETTO:-0600
TZNAME:CST
DTSTART:20261101T070000
END:STANDARD
BEGIN:DAYLIGHT
TZOFFSETFROM:-0600
TZOFFSETTO:-0500
TZNAME:CDT
DTSTART:20270314T080000
END:DAYLIGHT
BEGIN:STANDARD
TZOFFSETFROM:-0500
TZOFFSETTO:-0600
TZNAME:CST
DTSTART:20271107T070000
END:STANDARD
END:VTIMEZONE
BEGIN:VEVENT
DTSTART;TZID=America/Chicago:20260307T100000
DTEND;TZID=America/Chicago:20260307T150000
DTSTAMP:20260421T093050
CREATED:20260122T215402Z
LAST-MODIFIED:20260122T215402Z
UID:10000806-1772877600-1772895600@burrittonthemountain.com
SUMMARY:Fire on the Mountain 2026
DESCRIPTION:A day of Open Hearth Cooking\, Blacksmithing and Fires Burning throughout the Historic Park! \nYou won’t want to miss Burritt’s Fire on the Mountain on Saturday\, March 7th\, from 10:00 – 3:00. Our historic cooks will transport you back to the 1800s as you see\, hear\, and smell their work as they prepare historic recipes over our open fires and cast-iron cook stove. In addition\, our blacksmiths will be firing up the forges throughout the historic park to demonstrate this fascinating skill. Please join us for this memorable day in the historic park!
URL:https://burrittonthemountain.com/event/fire-on-the-mountain-2026/
LOCATION:Burritt on the Mountain\, 3101 Burritt Dr.\, Huntsville\, AL\, 35801\, United States
CATEGORIES:Annual Events,Education,Featured Events,Spring
ATTACH;FMTTYPE=image/jpeg:https://burrittonthemountain.b-cdn.net/app/uploads/2024/01/heath-cooking-scaled.jpg
GEO:34.7159424;-86.5395748
X-APPLE-STRUCTURED-LOCATION;VALUE=URI;X-ADDRESS=Burritt on the Mountain 3101 Burritt Dr. Huntsville AL 35801 United States;X-APPLE-RADIUS=500;X-TITLE=3101 Burritt Dr.:geo:-86.5395748,34.7159424
END:VEVENT
BEGIN:VEVENT
DTSTART;VALUE=DATE:20260316
DTEND;VALUE=DATE:20260321
DTSTAMP:20260421T093050
CREATED:20260127T222005Z
LAST-MODIFIED:20260127T222005Z
UID:10000807-1773619200-1774051199@burrittonthemountain.com
SUMMARY:Burritt Nature Rangers Spring Camp Wild Journey: Exploring Animals and Their Homes
DESCRIPTION:  \nBurritt Nature Rangers Spring Camp\, \nWild Journey: Exploring Animals and Their Homes \nMarch 16th – 20th   |     Children in Grades K-5th \n  \nJoin us for an unforgettable adventure in Wild Journey: Exploring Animals and Their Homes Spring Break Camp! Designed for grades K-5\, this week-long day camp lets kids explore the great outdoors at Burritt on the Mountain. Campers will immerse themselves in nature by hiking our forested nature trails (weather permitting)\, learning about animals around the world\, and discovering the habitats they live in. Students will explore how each animal is perfectly suited to its environment. With plenty of fresh air\, open spaces for games\, meeting new friends\, and cool crafts\, this camp is the perfect blend of learning and adventure. Sign up today for a week of discovery led by our CPR-certified staff and plenty of individualized attention with our teacher-to-camper ratio of 1:12. \nCamp days run from 9:00 to 2:00. Students should bring their own sack lunch\, but Burritt will provide a snack each day. The cost of the camp is $199 for members or $255 for non-members. You may also choose to register for our extended day options with drop-off available as early as 7:30 a.m. and pick up as late as 5:30 p.m. The cost for each day of an extended day is an additional $10 each day for morning only\, and an additional $25 each day for afternoon only\, or $35 each day for both morning and afternoon. \nRegistration opens February 1\, 2026. \nFor more information\, contact Betsy Morgan Betsy.Morgan@huntsvilleal.gov or (256) 705-3064 \n  \nExtended Day slots are limited. Please register your child for any extended day options when you reserve your spot for camp. \nMember Discounts apply for those with Family/Grandparent Memberships or above. \nRegister for Nature Rangers Camp Here
URL:https://burrittonthemountain.com/event/burritt-nature-rangers-spring-camp-wild-journey-exploring-animals-and-their-homes/
LOCATION:Burritt on the Mountain\, 3101 Burritt Dr.\, Huntsville\, AL\, 35801\, United States
CATEGORIES:Annual Events,Day Camps,Featured Events,Spring
ATTACH;FMTTYPE=image/jpeg:https://burrittonthemountain.b-cdn.net/app/uploads/2026/01/Habitats-Header.jpg
GEO:34.7159424;-86.5395748
X-APPLE-STRUCTURED-LOCATION;VALUE=URI;X-ADDRESS=Burritt on the Mountain 3101 Burritt Dr. Huntsville AL 35801 United States;X-APPLE-RADIUS=500;X-TITLE=3101 Burritt Dr.:geo:-86.5395748,34.7159424
END:VEVENT
END:VCALENDAR