BEGIN:VCALENDAR
VERSION:2.0
PRODID:-//Burritt On The Mountain - ECPv6.15.16//NONSGML v1.0//EN
CALSCALE:GREGORIAN
METHOD:PUBLISH
X-ORIGINAL-URL:https://burrittonthemountain.com
X-WR-CALDESC:Events for Burritt On The Mountain
REFRESH-INTERVAL;VALUE=DURATION:PT1H
X-Robots-Tag:noindex
X-PUBLISHED-TTL:PT1H
BEGIN:VTIMEZONE
TZID:America/Chicago
BEGIN:DAYLIGHT
TZOFFSETFROM:-0600
TZOFFSETTO:-0500
TZNAME:CDT
DTSTART:20250309T080000
END:DAYLIGHT
BEGIN:STANDARD
TZOFFSETFROM:-0500
TZOFFSETTO:-0600
TZNAME:CST
DTSTART:20251102T070000
END:STANDARD
BEGIN:DAYLIGHT
TZOFFSETFROM:-0600
TZOFFSETTO:-0500
TZNAME:CDT
DTSTART:20260308T080000
END:DAYLIGHT
BEGIN:STANDARD
TZOFFSETFROM:-0500
TZOFFSETTO:-0600
TZNAME:CST
DTSTART:20261101T070000
END:STANDARD
BEGIN:DAYLIGHT
TZOFFSETFROM:-0600
TZOFFSETTO:-0500
TZNAME:CDT
DTSTART:20270314T080000
END:DAYLIGHT
BEGIN:STANDARD
TZOFFSETFROM:-0500
TZOFFSETTO:-0600
TZNAME:CST
DTSTART:20271107T070000
END:STANDARD
END:VTIMEZONE
BEGIN:VEVENT
DTSTART;TZID=America/Chicago:20260404T110000
DTEND;TZID=America/Chicago:20260404T150000
DTSTAMP:20260421T202453
CREATED:20260130T155615Z
LAST-MODIFIED:20260130T155615Z
UID:10000814-1775300400-1775314800@burrittonthemountain.com
SUMMARY:Easter Jubilee 2026
DESCRIPTION:Easter Jubilee 2026 at Burritt on the Mountain \nSaturday April 4\, 2026\, 11am-3pm \n  \nSuper egg-citing Adventures await at Burritt on the Mountain’s annual Easter Jubilee! Grab your Easter basket and join us on Saturday\, April 4th\, from 11am to 3pm. Collect eggs and treats from our frontier friends\, pan for gems at our sluice\, meet our barnyard animals and make some Easter crafts to take home. \nDon’t want the fun to end? Tour Dr. Burritt’s mansion\, explore the We the People activities\, or take a hike on one of our nature trails. \n  \nRegular Burritt admissions rates apply\, and this event is free to Burritt Members.
URL:https://burrittonthemountain.com/event/easter-jubilee-2026/
LOCATION:Burritt on the Mountain\, 3101 Burritt Dr.\, Huntsville\, AL\, 35801\, United States
CATEGORIES:Annual Events,Barnyard,Featured Events,Historic Park,Spring
ATTACH;FMTTYPE=image/jpeg:https://burrittonthemountain.b-cdn.net/app/uploads/2026/01/IMG_3618-scaled-e1769788530279.jpg
GEO:34.7159424;-86.5395748
X-APPLE-STRUCTURED-LOCATION;VALUE=URI;X-ADDRESS=Burritt on the Mountain 3101 Burritt Dr. Huntsville AL 35801 United States;X-APPLE-RADIUS=500;X-TITLE=3101 Burritt Dr.:geo:-86.5395748,34.7159424
END:VEVENT
END:VCALENDAR