BEGIN:VCALENDAR
VERSION:2.0
PRODID:-//Burritt On The Mountain - ECPv6.15.16//NONSGML v1.0//EN
CALSCALE:GREGORIAN
METHOD:PUBLISH
X-ORIGINAL-URL:https://burrittonthemountain.com
X-WR-CALDESC:Events for Burritt On The Mountain
REFRESH-INTERVAL;VALUE=DURATION:PT1H
X-Robots-Tag:noindex
X-PUBLISHED-TTL:PT1H
BEGIN:VTIMEZONE
TZID:America/Chicago
BEGIN:DAYLIGHT
TZOFFSETFROM:-0600
TZOFFSETTO:-0500
TZNAME:CDT
DTSTART:20240310T080000
END:DAYLIGHT
BEGIN:STANDARD
TZOFFSETFROM:-0500
TZOFFSETTO:-0600
TZNAME:CST
DTSTART:20241103T070000
END:STANDARD
BEGIN:DAYLIGHT
TZOFFSETFROM:-0600
TZOFFSETTO:-0500
TZNAME:CDT
DTSTART:20250309T080000
END:DAYLIGHT
BEGIN:STANDARD
TZOFFSETFROM:-0500
TZOFFSETTO:-0600
TZNAME:CST
DTSTART:20251102T070000
END:STANDARD
BEGIN:DAYLIGHT
TZOFFSETFROM:-0600
TZOFFSETTO:-0500
TZNAME:CDT
DTSTART:20260308T080000
END:DAYLIGHT
BEGIN:STANDARD
TZOFFSETFROM:-0500
TZOFFSETTO:-0600
TZNAME:CST
DTSTART:20261101T070000
END:STANDARD
END:VTIMEZONE
BEGIN:VEVENT
DTSTART;TZID=America/Chicago:20250613T193000
DTEND;TZID=America/Chicago:20250613T210000
DTSTAMP:20260421T111845
CREATED:20250228T201106Z
LAST-MODIFIED:20250610T210251Z
UID:10000610-1749843000-1749848400@burrittonthemountain.com
SUMMARY:2025 City Lights & Stars: Them Damn Dogs - June 13th
DESCRIPTION:2025 marks the 32nd Season of the City Lights & Stars Concert Series at Burritt on the Mountain \nThem Damn Dogs  |  June 13th \nGates Open at 6:00 pm. Concert begins at 7:30 pm. \nThem Damn Dogs are the representation of the community\, upbeat rock\, and passion for the awkward moments in life. Their inspiration for alternative/indie/new wave delivers a seminal touch and is boosted with raw yet charming performances. Them Damn Dogs sing for the lonely and the inspired\, to embrace the beautiful heartaches and vigor that drives us to live\, move\, and grow. \nBring your chair\, blanket and picnic to enjoy the evening. Food trucks will be onsite with food & dessert available for purchase. Beer and Wine available for purchase.  \nAbsolutely no outside alcohol please. \n\nExclusive Member Benefit\nMember Ticket Presale Opens March 1st at 10am\, General Public on sale April 1st at 10am \n\nOnline ticket sales end the day of concert at 4pm or until sold out! \nTicket purchases are non-refundable and considered a tax deductible donation. \nGates Open at 6:00 pm. Concert begins at 7:30 pm. \nConcert location is determined by weather forecast as of 3pm the day of the concert.  In the event of rain\, concerts will be moved to the Bendickson Family Pavilion.  \nIf the concert must be cancelled due to inclement weather or other circumstances beyond our control\, ticket purchases will be considered a tax-deductible donation to Burritt on the Mountain. Ticket purchasers will be notified of cancellations by email. \n  \n \n\n \nConcert Dinner with a View at City Lights & Stars\nFabulous Food\, Fantastic View \nEnjoy a delicious dinner before the concert. \nAvailable for all Concerts    |    Dinner at 6:30pm    |    $40 Per Person \nDinner must accompany a City Lights & Stars Concert ticket.  \nDining will be at The View\, weather permitting or under the Pavilion if rainy. Dinner will be delivered to your table upon arrival. \nRelax with the best view in Huntsville. Stay at your table during the concert to watch the sunset or bring your lawn chairs to move to the grass for the concert. \nDinner Menu Includes: Tossed Garden Salad\, Grilled Chicken with Fruit Chutney & Sustainably Sourced Pan-Fried Cod\, Parsley New Potatoes\, Vegetable Medley and Dessert \nCash & Credit bar available for beverages. \nTables can seat up to six guests. When making dinner reservations\, please notify us if you would like to sit with other guests.\nFor more information\, please contact Cooper Murray\, tamara.murray@huntsvilleal.gov \nReservations close on Wednesday at noon before each concert. \n \n \n\nBought a Concert Ticket and want to add a Dinner?\nEmail Cooper Murray\, tamara.murray@huntsvilleal.gov\, to add your dinner to an already purchase concert ticket! \nEmail Cooper Murray \n\n \n\n \nInterested in Volunteering for this concert? \nClick here to Volunteer! \n \n \nSponsored By: \n \nInterested in sponsoring our City Lights Concert Series?  \nSponsorship Opportunities
URL:https://burrittonthemountain.com/event/2025-city-lights-stars-them-damn-dogs-june-13th/
LOCATION:Burritt on the Mountain\, 3101 Burritt Dr.\, Huntsville\, AL\, 35801\, United States
CATEGORIES:Annual Events,City Lights & Stars Concert Series,Featured Events,Summer
ATTACH;FMTTYPE=image/jpeg:https://burrittonthemountain.b-cdn.net/app/uploads/2025/02/ThemDamnDogs-7.jpg
GEO:34.7159424;-86.5395748
X-APPLE-STRUCTURED-LOCATION;VALUE=URI;X-ADDRESS=Burritt on the Mountain 3101 Burritt Dr. Huntsville AL 35801 United States;X-APPLE-RADIUS=500;X-TITLE=3101 Burritt Dr.:geo:-86.5395748,34.7159424
END:VEVENT
BEGIN:VEVENT
DTSTART;TZID=America/Chicago:20250530T193000
DTEND;TZID=America/Chicago:20250530T210000
DTSTAMP:20260421T111845
CREATED:20250228T185425Z
LAST-MODIFIED:20250530T112924Z
UID:10000608-1748633400-1748638800@burrittonthemountain.com
SUMMARY:2025 City Lights & Stars: Fireball Mail - May 30th
DESCRIPTION:2025 marks the 32nd Season of the City Lights & Stars Concert Series at Burritt on the Mountain \nFireball Mail  |  May 30th \nGates Open at 6:00 pm. Concert begins at 7:30 pm. \nFireball Mail Bluegrass Band – Winners of the 2016 Telluride Bluegrass Festival Band Contest. The group embodies a unique combination of instrumental virtuosity and prolific songwriting talent with an impressive catalog of fresh and original material. Collectively\, Fireball Mail has an extensive resume of touring and recording experience including appearances with such notable artists as Buddy Green\, Curtis Burch\, and Ricky Skaggs \nBring your chair\, blanket and picnic to enjoy the evening. Food trucks will be onsite with food & dessert available for purchase. Beer and Wine available for purchase.  \nAbsolutely no outside alcohol please. \n\nExclusive Member Benefit\nMember Ticket Presale Opens March 1st at 10am\, General Public on sale April 1st at 10am \n\nOnline ticket sales end the day of concert at 4pm or until sold out! \nTicket purchases are non-refundable and considered a tax deductible donation. \nGates Open at 6:00 pm. Concert begins at 7:30 pm. \nConcert location is determined by weather forecast as of 3pm the day of the concert.  In the event of rain\, concerts will be moved to the Bendickson Family Pavilion.  \nIf the concert must be cancelled due to inclement weather or other circumstances beyond our control\, ticket purchases will be considered a tax-deductible donation to Burritt on the Mountain. Ticket purchasers will be notified of cancellations by email. \n  \n \n\n \nConcert Dinner with a View at City Lights & Stars\nFabulous Food\, Fantastic View \nEnjoy a delicious dinner before the concert. \nAvailable for all Concerts    |    Dinner at 6:30pm    |    $40 Per Person \nDinner must accompany a City Lights & Stars Concert ticket.  \nDining will be at The View\, weather permitting or under the Pavilion if rainy. Dinner will be delivered to your table upon arrival. \nRelax with the best view in Huntsville. Stay at your table during the concert to watch the sunset or bring your lawn chairs to move to the grass for the concert. \nDinner Menu Includes: Tossed Garden Salad\, Grilled Chicken with Fruit Chutney & Sustainably Sourced Pan-Fried Cod\, Parsley New Potatoes\, Vegetable Medley and Dessert \nCash & Credit bar available for beverages. \nTables can seat up to six guests. When making dinner reservations\, please notify us if you would like to sit with other guests.\nFor more information\, please contact Cooper Murray\, tamara.murray@huntsvilleal.gov \nReservations close on Wednesday at noon before each concert. \n \n \n\nBought a Concert Ticket and want to add a Dinner?\nEmail Cooper Murray\, tamara.murray@huntsvilleal.gov\, to add your dinner to an already purchase concert ticket! \nEmail Cooper Murray \n\n \n\n \nInterested in Volunteering for this concert? \nClick here to Volunteer! \n \n \nThis Concert Sponsorship is available! \nInterested in sponsoring our City Lights Concert Series?  \nSponsorship Opportunities
URL:https://burrittonthemountain.com/event/2025-city-lights-stars-fireball-mail-may-30th/
LOCATION:AL
CATEGORIES:Annual Events,City Lights & Stars Concert Series,Featured Events,Summer
ATTACH;FMTTYPE=image/webp:https://burrittonthemountain.b-cdn.net/app/uploads/2022/09/fireball-mail.webp
END:VEVENT
BEGIN:VEVENT
DTSTART;TZID=America/Chicago:20250509T193000
DTEND;TZID=America/Chicago:20250509T210000
DTSTAMP:20260421T111845
CREATED:20250228T181539Z
LAST-MODIFIED:20250324T163721Z
UID:10000609-1746819000-1746824400@burrittonthemountain.com
SUMMARY:2025 City Lights & Stars: Kush - May 9th
DESCRIPTION:2025 marks the 32nd Season of the City Lights & Stars Concert Series at Burritt on the Mountain \nKUSH  |  May 9th \nGates Open at 6:00 pm. Concert begins at 7:30 pm. \nKUSH is a Caribbean-centered band from Huntsville\, Alabama led by Arnold Corbin\, also known as Bert. \nThe name KUSH comes from an ancient African empire. Many artists have influenced KUSH. Reggae ambassador Bob Marley’s influence is quite evident in the “Roots\,” while artists such as Sean Paul and Beenie Man have influenced the band’s more hard-hitting “Dance Hall” styles. The group also receives inspiration from the many “Calypso” and “Soca” artists. Kush’s mainstream influences include Sade\, Bob Dylan\, and Santana to name a few. KUSH has performed at multiple venues throughout the Southeast. \nBring your chair\, blanket and picnic to enjoy the evening. Food trucks will be onsite with food & dessert available for purchase. Beer and Wine available for purchase.  \nAbsolutely no outside alcohol please. \n\nExclusive Member Benefit\nMember Ticket Presale Opens March 1st at 10am\, General Public on sale April 1st at 10am \n\nOnline ticket sales end the day of concert at 4pm or until sold out! \nTicket purchases are non-refundable and considered a tax deductible donation. \nGates Open at 6:00 pm. Concert begins at 7:30 pm. \nConcert location is determined by weather forecast as of 3pm the day of the concert.  In the event of rain\, concerts will be moved to the Bendickson Family Pavilion.  \nIf the concert must be cancelled due to inclement weather or other circumstances beyond our control\, ticket purchases will be considered a tax-deductible donation to Burritt on the Mountain. Ticket purchasers will be notified of cancellations by email. \n  \n \n\n \nConcert Dinner with a View at City Lights & Stars\nFabulous Food\, Fantastic View \nEnjoy a delicious dinner before the concert. \nAvailable for all Concerts    |    Dinner at 6:30pm    |    $40 Per Person \nDinner must accompany a City Lights & Stars Concert ticket.  \nDining will be at The View\, weather permitting or under the Pavilion if rainy. Dinner will be delivered to your table upon arrival. \nRelax with the best view in Huntsville. Stay at your table during the concert to watch the sunset or bring your lawn chairs to move to the grass for the concert. \n\nDinner with a View Menu\nMixed Berry Salad: Mixed Greens\, Hearts of Romaine\, Carrots\, Cucumber\, Blackberries\, Raspberries\, Blueberries\, Strawberries\, shaved parmesan and Creamy citrus Vinaigrette\, Spinach and Artichoke Chicken over a bed of Capellini Pasta\, Roasted Red Skin Potatoes\, Green Beans\, Artisan Rolls\, Chef Selected Dessert \n\nCash & Credit bar available for beverages. \nTables can seat up to six guests. When making dinner reservations\, please notify us if you would like to sit with other guests.\nFor more information\, please contact Cooper Murray\, tamara.murray@huntsvilleal.gov \nReservations close on Tuesday at noon before each concert. \n \n \n\nBought a Concert Ticket and want to add a Dinner?\nEmail Cooper Murray\, tamara.murray@huntsvilleal.gov\, to add your dinner to an already purchase concert ticket! \nEmail Cooper Murray \n\n \n\n \nInterested in Volunteering for this concert? \nClick here to Volunteer! \n \n \nThis Concert Sponsorship is available! \nInterested in sponsoring our City Lights Concert Series?  \nSponsorship Opportunities
URL:https://burrittonthemountain.com/event/2025-city-lights-stars-kush-may-9th/
LOCATION:Burritt on the Mountain\, 3101 Burritt Dr.\, Huntsville\, AL\, 35801\, United States
CATEGORIES:Annual Events,City Lights & Stars Concert Series,Featured Events,Summer
ATTACH;FMTTYPE=image/png:https://burrittonthemountain.b-cdn.net/app/uploads/2019/04/KushPromo.png
GEO:34.7159424;-86.5395748
X-APPLE-STRUCTURED-LOCATION;VALUE=URI;X-ADDRESS=Burritt on the Mountain 3101 Burritt Dr. Huntsville AL 35801 United States;X-APPLE-RADIUS=500;X-TITLE=3101 Burritt Dr.:geo:-86.5395748,34.7159424
END:VEVENT
BEGIN:VEVENT
DTSTART;TZID=America/Chicago:20250424T180000
DTEND;TZID=America/Chicago:20250424T200000
DTSTAMP:20260421T111845
CREATED:20250225T014122Z
LAST-MODIFIED:20250225T014122Z
UID:10000607-1745517600-1745524800@burrittonthemountain.com
SUMMARY:2025 Champagne Soirée
DESCRIPTION:Burritt on the Mountain invites you to join us for cocktails and heavy hors d’oeuvres \nin celebration and support of the 32nd Season of City Lights and Stars! \n \nat Burritt on the Mountain \nBaron Bluff \nThursday\, April 24th\n6:00 p.m. – 8:00 p.m. \nEnjoy the sounds of a Jazz trio throughout the evening. \nYour support is pivotal to our educational programs\, including camps\, field trips\, family festivals\, and outreach. Your support assures the finances necessary for Burritt on the Mountain to build community through educational\, artistic\, and recreational experiences. The City Lights and Stars Concert Series is part of the foundation of support for one of Huntsville’s most exceptional educational programs. Without your assistance\, Burritt could not create the variety of opportunities for our community. \nWe invite you and a guest to attend the event at the Patron Level ($250-$499)\, Impresario Level ($500-$999)\, Virtuoso Level ($1\,000+) or above. \nYour help is integral to our success\, thank you! \nRSVP by Friday\, April 18th\nDress Business Casual \nMake your Donation today to attend the 2025 Champagne Soirée. \n\nFollow the link below and select Champagne Soirée – City Lights & Stars Supporter from the Apply my Donation to dropdown.\nComplete a Donation amount of $250 and above to attend.\n\nBecome a City Lights & Stars Supporter Complete your RSVP and make your Donation TODAY!
URL:https://burrittonthemountain.com/event/2025-champagne-soiree/
LOCATION:Burritt on the Mountain\, 3101 Burritt Dr.\, Huntsville\, AL\, 35801\, United States
CATEGORIES:Annual Events,City Lights & Stars Concert Series,Featured Events,Fundraiser,Spring
ATTACH;FMTTYPE=image/jpeg:https://burrittonthemountain.b-cdn.net/app/uploads/2025/02/shutterstock_114576817-scaled.jpg
GEO:34.7159424;-86.5395748
X-APPLE-STRUCTURED-LOCATION;VALUE=URI;X-ADDRESS=Burritt on the Mountain 3101 Burritt Dr. Huntsville AL 35801 United States;X-APPLE-RADIUS=500;X-TITLE=3101 Burritt Dr.:geo:-86.5395748,34.7159424
END:VEVENT
END:VCALENDAR