BEGIN:VCALENDAR
VERSION:2.0
PRODID:-//Burritt On The Mountain - ECPv6.15.16//NONSGML v1.0//EN
CALSCALE:GREGORIAN
METHOD:PUBLISH
X-ORIGINAL-URL:https://burrittonthemountain.com
X-WR-CALDESC:Events for Burritt On The Mountain
REFRESH-INTERVAL;VALUE=DURATION:PT1H
X-Robots-Tag:noindex
X-PUBLISHED-TTL:PT1H
BEGIN:VTIMEZONE
TZID:America/Chicago
BEGIN:DAYLIGHT
TZOFFSETFROM:-0600
TZOFFSETTO:-0500
TZNAME:CDT
DTSTART:20240310T080000
END:DAYLIGHT
BEGIN:STANDARD
TZOFFSETFROM:-0500
TZOFFSETTO:-0600
TZNAME:CST
DTSTART:20241103T070000
END:STANDARD
BEGIN:DAYLIGHT
TZOFFSETFROM:-0600
TZOFFSETTO:-0500
TZNAME:CDT
DTSTART:20250309T080000
END:DAYLIGHT
BEGIN:STANDARD
TZOFFSETFROM:-0500
TZOFFSETTO:-0600
TZNAME:CST
DTSTART:20251102T070000
END:STANDARD
BEGIN:DAYLIGHT
TZOFFSETFROM:-0600
TZOFFSETTO:-0500
TZNAME:CDT
DTSTART:20260308T080000
END:DAYLIGHT
BEGIN:STANDARD
TZOFFSETFROM:-0500
TZOFFSETTO:-0600
TZNAME:CST
DTSTART:20261101T070000
END:STANDARD
BEGIN:DAYLIGHT
TZOFFSETFROM:-0600
TZOFFSETTO:-0500
TZNAME:CDT
DTSTART:20270314T080000
END:DAYLIGHT
BEGIN:STANDARD
TZOFFSETFROM:-0500
TZOFFSETTO:-0600
TZNAME:CST
DTSTART:20271107T070000
END:STANDARD
END:VTIMEZONE
BEGIN:VEVENT
DTSTART;TZID=America/Chicago:20251115T120000
DTEND;TZID=America/Chicago:20251115T160000
DTSTAMP:20260423T001342
CREATED:20250919T031956Z
LAST-MODIFIED:20250919T031956Z
UID:10000764-1763208000-1763222400@burrittonthemountain.com
SUMMARY:Textile Arts: Yarn Dyeing
DESCRIPTION:Deadline to Register: November 8\, 2025 at 5pm \nTitle: Textile Arts: “Yarn Dyeing” \nDescription: This introductory workshop is perfect for anyone interested in exploring the art of hand-dyeing yarn. Participants will learn the basics of fiber preparation\, safe dye handling\, and simple techniques for applying color to yarn. With clear\, step-by-step instruction\, students will gain the confidence to create their own one-of-a-kind skeins using beginner-friendly materials. \nInstructor:  This class will be taught by local weaver Emily Wallace. Emily has been teaching weaving\, spinning\, and other fiber arts to the public for  over 10 years. She previously owned a yarn shop in Hartselle\, AL and has taught various workshops at several yarn shops and studios. She  currently has a weaving studio at Lowe Mill Arts (studio #311) where she teaches and sells handwoven items. She also lectures about using conservation breed wool and the history of spinning and weaving. \nSupplies and Attire: All materials and supplies will be provided. \nTime: Saturday\, November 15th  (9:00am – 1:00pm) \nTuition: $70.00 \nSupply Fee: $30.00 \nLevel:  All Levels \n~~~~~~ \nImportant Information: Registering for a workshop indicates that the student is 19 years of age or older and understands that photographs/video may be taken during the event and their image may be used on Burritt on the Mountain’s website and social media outlets or other promotional materials. Registration also indicates that the student releases Burritt on the Mountain and the City of Huntsville\, all their directors\, employees\, volunteers\, and any persons associated with Burritt on the Mountain\, from any liability for any bodily injury and/or property damage suffered by the attendee as a result of actives during the educational program. \nCancelation Policy:  Our workshops take a great deal of advance planning and purchasing of supplies. 25% of all ticket purchases are a non-refundable deposit. Students that cancel 30 days or more prior to the date of the class will be eligible for a refund\, minus the non-refundable deposit. No refunds will be issued less than 30 days from the start date of a class.*  To be fair and consistent\, there can be no exceptions to this policy\, regardless for the reason a cancelation is requested. \nThank you for understanding that this policy is in place to protect our artist instructors who spend time\, energy\, and money to create an amazing learning experience.  \n*We require a minimum number of students to hold a class. If this minimum is not met\, the class may be canceled or rescheduled. In this case\, a full refund will be offered.
URL:https://burrittonthemountain.com/event/textile-arts-yarn-dyeing/
LOCATION:Burritt on the Mountain\, 3101 Burritt Dr.\, Huntsville\, AL\, 35801\, United States
CATEGORIES:Burritt Folk School,Fall,Featured Events
ATTACH;FMTTYPE=image/png:https://burrittonthemountain.b-cdn.net/app/uploads/2025/09/yarn-dyeing-for-beginners.png
GEO:34.7159424;-86.5395748
X-APPLE-STRUCTURED-LOCATION;VALUE=URI;X-ADDRESS=Burritt on the Mountain 3101 Burritt Dr. Huntsville AL 35801 United States;X-APPLE-RADIUS=500;X-TITLE=3101 Burritt Dr.:geo:-86.5395748,34.7159424
END:VEVENT
BEGIN:VEVENT
DTSTART;TZID=America/Chicago:20251115T130000
DTEND;TZID=America/Chicago:20251115T150000
DTSTAMP:20260423T001342
CREATED:20251007T170336Z
LAST-MODIFIED:20251007T170336Z
UID:10000770-1763211600-1763218800@burrittonthemountain.com
SUMMARY:Botanical Design: “Holiday Mailbox Arrangement"
DESCRIPTION:Deadline to Register: November 8th at 5:00pm \nTitle: Botanical Design: “Holiday Mailbox Arrangement” \nDescription: Get into the holiday spirit with a hands-on workshop that brings the beauty of nature to your front yard! In this class\, students will learn how to create a stunning\, long-lasting holiday mailbox decoration using fresh greenery foraged from their own backyards. Weather permitting at the end of the class we will take an optional walk around the museum grounds to point out types of appropriate greenery to add to your own mailbox decor. \nEach participant will receive: \n\nA sturdy arrangement base\nA 3-foot length of festive ribbon to make your bow in class\nA curated list of long-lasting natural materials ideal for foraging\nStep-by-step instructions for assembling a decoration on your home mailbox.\n\nThis class is perfect for anyone who loves crafting\, decorating\, or simply wants to add a personal\, nature-inspired touch to their holiday décor. You’ll leave with the knowledge and confidence to build your own mailbox decoration at home—just in time for the season! \nInstructor: Beth Phillips says “I weave lighting\, sculptures and basketry using whole and split Kudzu vines. I also make paper from the leaves\, and I recently learned the ancient process of extracting the fiber from the vines to weave cloth and am excitedly pursuing that side of creating with kudzu at present. I regularly forage materials from nature to include in my artwork and botanical arrangements. Images and examples of my more recent work can be seen on my social media pages on FB and IG @kudzumama. With the invasive nature of kudzu such an environmental and ecological issue in the South\, I love the opportunity to share all the wonderful uses and products that can be derived from such a maligned vine.” \n  \nSupplies and Attire: All materials and supplies will be provided. \nTime: Saturday\, November 15th\, 1:00pm-3:00pm \nTuition: $80.00 \nSupply Fee: $10.00 \nLevel: Beginner \n~~~~~~ \nImportant Information: Registering for a workshop indicates that the student is 19 years of age or older and understands that photographs/video may be taken during the event and their image may be used on Burritt on the Mountain’s website and social media outlets or other promotional materials. Registration also indicates that the student releases Burritt on the Mountain and the City of Huntsville\, all their directors\, employees\, volunteers\, and any persons associated with Burritt on the Mountain\, from any liability for any bodily injury and/or property damage suffered by the attendee as a result of actives during the educational program. \nCancelation Policy:  Our workshops take a great deal of advance planning and purchasing of supplies. 25% of all ticket purchases are a non-refundable deposit. Students that cancel 30 days or more prior to the date of the class will be eligible for a refund\, minus the non-refundable deposit.  No refunds will be issued less than 30 days from the start date of a class.*  To be fair and consistent\, there can be no exceptions to this policy\, regardless for the reason a cancelation is requested. \nThank you for understanding that this policy is in place to protect our artist instructors who spend time\, energy\, and money to create an amazing learning experience.  \n*We require a minimum number of students to hold a class. If this minimum is not met\, the class may be canceled or rescheduled. In this case\, a full refund will be offered. \n 
URL:https://burrittonthemountain.com/event/botanical-design-holiday-mailbox-arrangement/
LOCATION:Burritt on the Mountain\, 3101 Burritt Dr.\, Huntsville\, AL\, 35801\, United States
CATEGORIES:Burritt Folk School,Burritt Folk School Holiday Classes,Fall,Featured Events,Holiday,Holiday Folk School
ATTACH;FMTTYPE=image/jpeg:https://burrittonthemountain.b-cdn.net/app/uploads/2025/10/holiday-mailbox.jpg
GEO:34.7159424;-86.5395748
X-APPLE-STRUCTURED-LOCATION;VALUE=URI;X-ADDRESS=Burritt on the Mountain 3101 Burritt Dr. Huntsville AL 35801 United States;X-APPLE-RADIUS=500;X-TITLE=3101 Burritt Dr.:geo:-86.5395748,34.7159424
END:VEVENT
BEGIN:VEVENT
DTSTART;TZID=America/Chicago:20260102T130000
DTEND;TZID=America/Chicago:20260102T160000
DTSTAMP:20260423T001342
CREATED:20251122T200502Z
LAST-MODIFIED:20251122T200938Z
UID:10000786-1767358800-1767369600@burrittonthemountain.com
SUMMARY:Glass: "Introduction to Glass Fusing"
DESCRIPTION:Deadline to Register: December 26\,2025 at 5:00pm \nTitle: Glass: “Introduction to Glass Fusing” \nDescription:  Come and join us for fun Glass Fusing project! You will be making a 6×6 project to display or hang in your home.  We’ll walk you through each step\, giving you tricks and tips on how to use our glass fusing materials and tools along the way. Once completed the projects will be fired and ready for pick-up the following week. \nInstructor: Cate Woodall is a graduate of Southeastern Louisiana University with a visual arts degree specializing in ceramics. She has taught hand-building clay and pottery painting classes as well as glass fusing for several years. She enjoys helping people find a stress free outlet for their creativity. \n Supplies and Attire: All materials and supplies will be provided. \nTime: Friday\, January 2\, 2025 (1:00pm-4:00pm): \nTuition: $50.00 \nSupply Fee: $15.00 \nLevel: Beginner \n~~~~~~ \nImportant Information: Registering for a workshop indicates that the student is 19 years of age or older and understands that photographs/video may be taken during the event and their image may be used on Burritt on the Mountain’s website and social media outlets or other promotional materials. Registration also indicates that the student releases Burritt on the Mountain and the City of Huntsville\, all their directors\, employees\, volunteers\, and any persons associated with Burritt on the Mountain\, from any liability for any bodily injury and/or property damage suffered by the attendee as a result of activities during the educational program. \nCancellation Policy:  Our workshops take a great deal of advanced planning and purchasing of supplies. 25% of all ticket purchases are a non-refundable deposit. Students cancelling 30 days or more prior to the date of the class will be eligible for a refund\, minus the non-refundable deposit. No refunds will be issued less than 30 days from the start date of a class.*  To be fair and consistent\, there can be no exceptions to this policy\, regardless the reason a cancellation is requested. \nThank you for understanding that this policy is in place to protect our artist instructors who spend time\, energy\, and money to create an amazing learning experience.  \n*We require a minimum number of students to hold a class. If this minimum is not met\, the class may be cancelled or rescheduled. In this case\, a full refund will be offered.
URL:https://burrittonthemountain.com/event/glass-introduction-to-glass-fusing-11/
LOCATION:Burritt on the Mountain\, 3101 Burritt Dr.\, Huntsville\, AL\, 35801\, United States
CATEGORIES:Burritt Folk School,Fall,Featured Events
ATTACH;FMTTYPE=image/jpeg:https://burrittonthemountain.b-cdn.net/app/uploads/2025/03/Cate-Woodall-fused-glass-3.jpg
GEO:34.7159424;-86.5395748
X-APPLE-STRUCTURED-LOCATION;VALUE=URI;X-ADDRESS=Burritt on the Mountain 3101 Burritt Dr. Huntsville AL 35801 United States;X-APPLE-RADIUS=500;X-TITLE=3101 Burritt Dr.:geo:-86.5395748,34.7159424
END:VEVENT
BEGIN:VEVENT
DTSTART;TZID=America/Chicago:20260117T140000
DTEND;TZID=America/Chicago:20260117T150000
DTSTAMP:20260423T001342
CREATED:20251122T194804Z
LAST-MODIFIED:20260106T191932Z
UID:10000785-1768658400-1768662000@burrittonthemountain.com
SUMMARY:Cooking: “Heritage Foods for Modern Health"
DESCRIPTION:Deadline to Register: January 10th at 5:00pm \nTitle: Cooking: “Heritage Foods for Modern Health” \nDescription:  This hands-on wellness workshop is designed to blend historical Southern food traditions with modern-day nutrition education. Participants will explore how 19th-century staples like beans\, grains\, and garden vegetables can support heart health and blood sugar balance in today’s context.  All materials for the soup-in-a-jar activity will be provided. Participants will leave with a complete jar\, printed recipe\, and basic guidance on how to prepare it at home. \nInstructor: Leslie Johnson\, MS\, RD\, CDCES is a registered dietitian and Certified Diabetes Care and Education Specialist passionate about making nutrition care both accessible and practical. Her work focuses on Food as Medicine by connecting food access\, public health\, and evidence-based nutrition to improve health outcomes. \n Supplies and Attire: All materials and supplies will be provided. \nTime:  Saturday January 17th (2:00-3:00pm) \nTuition: $15.00 \nSupply Fee: $5.00 \nLevel: Beginner \n~~~~~~ \nImportant Information: Registering for a workshop indicates that the student is 19 years of age or older and understands that photographs/video may be taken during the event and their image may be used on Burritt on the Mountain’s website and social media outlets or other promotional materials. Registration also indicates that the student releases Burritt on the Mountain and the City of Huntsville\, all their directors\, employees\, volunteers\, and any persons associated with Burritt on the Mountain\, from any liability for any bodily injury and/or property damage suffered by the attendee as a result of activeities during the educational program. \nCancellation Policy:  Our workshops take a great deal of advanced planning and purchasing of supplies. 25% of all ticket purchases are a non-refundable deposit. Students cancelling 30 days or more prior to the date of the class will be eligible for a refund\, minus the non-refundable deposit.  No refunds will be issued less than 30 days from the start date of a class.*  To be fair and consistent\, there can be no exceptions to this policy\, regardless the reason a cancellation is requested. \nThank you for understanding that this policy is in place to protect our artist instructors who spend time\, energy\, and money to create an amazing learning experience.  \n*We require a minimum number of students to hold a class. If this minimum is not met\, the class may be cancelled or rescheduled. In this case\, a full refund will be offered. \n 
URL:https://burrittonthemountain.com/event/cooking-heritage-foods-for-modern-health/
LOCATION:Burritt on the Mountain\, 3101 Burritt Dr.\, Huntsville\, AL\, 35801\, United States
CATEGORIES:Burritt Folk School,Fall,Featured Events,Winter,winter folk school
ATTACH;FMTTYPE=image/png:https://burrittonthemountain.b-cdn.net/app/uploads/2025/11/Heritage-Foods-for-Modern-Health-b.png
GEO:34.7159424;-86.5395748
X-APPLE-STRUCTURED-LOCATION;VALUE=URI;X-ADDRESS=Burritt on the Mountain 3101 Burritt Dr. Huntsville AL 35801 United States;X-APPLE-RADIUS=500;X-TITLE=3101 Burritt Dr.:geo:-86.5395748,34.7159424
END:VEVENT
BEGIN:VEVENT
DTSTART;TZID=America/Chicago:20260122T130000
DTEND;TZID=America/Chicago:20260122T150000
DTSTAMP:20260423T001342
CREATED:20251124T163240Z
LAST-MODIFIED:20260106T191950Z
UID:10000793-1769086800-1769094000@burrittonthemountain.com
SUMMARY:Weekday Series: Visual Arts- "Watercolor Birding"
DESCRIPTION:Deadline to Register: Thursday\, January 15\, 2026 \nTitle: Weekday Series: Visual Arts- ‘Watercolor Birding’ \nDescription: If outdoor Birding at Burritt is a little more than you are up for\, this Birding watercolor class may be just what you are looking for!  Come spend a couple of hours with an accomplished instructor to get you started on your watercolor birding adventure.\nTuition cost includes instruction and all your supplies. This class is great for all skill levels\, even if you have never picked up a paint-brush\, the point is to come and relax for a bit while creating something special! \nInstructor: Your instructor\, Lynn Lawrence\, has been painting since she was 7 years old. She started watercolor painting under the tutelage of her aunt\, Ruth Brown\, a well-known Alabama watercolorist.  She went on to compete in high school\, in a variety of media\, and was offered a scholarship to the Art Institute of Atlanta. Sadly\, she was pushed to pursue a business degree instead of following her heart.  Much later in life\, Lynn became a Certified Bob Ross instructor and taught his wet-on-wet technique throughout North Alabama up until 2020.  She brings a love for light\, color\, and nature to every classroom. \n Supplies and Attire:  All supplies included with tuition\, including – Spiral-bound Birds Watercolor Workbook featuring 12 different birds to paint\, durable 120lb custom watercolor paper\, paint set includes 12 basic colors\, plus black and brown\, and one high-quality watercolor brush (normally sold separately)\, travel-ready 6.5 by 9 inch workbook and paint set in its own case. \nTime: Thursday\, January 22\, 2026 (1:00pm-3:00pm) \nTuition: $75.00 \nSupply Fee: included with tuition \nLevel: Beginner \n~~~~~~ \nImportant Information: Registering for a workshop indicates that the student is 19 years of age or older and understands that photographs/video may be taken during the event and their image may be used on Burritt on the Mountain’s website and social media outlets or other promotional materials. Registration also indicates that the student releases Burritt on the Mountain and the City of Huntsville\, all their directors\, employees\, volunteers\, and any persons associated with Burritt on the Mountain\, from any liability for any bodily injury and/or property damage suffered by the attendee as a result of activities during the educational program. \nCancellation Policy:  Our workshops take a great deal of advanced planning and purchasing of supplies. 25% of all ticket purchases are a non-refundable deposit. Students that cancel 30 days or more prior to the date of the class will be eligible for a refund\, minus the non-refundable deposit. No refunds will be issued less than 30 days from the start date of a class.*  To be fair and consistent\, there can be no exceptions to this policy\, regardless the reason a cancellation is requested. \nThank you for understanding that this policy is in place to protect our artist instructors who spend time\, energy\, and money to create an amazing learning experience.  \n*We require a minimum number of students to hold a class. If this minimum is not met\, the class may be cancelled or rescheduled. In this case\, a full refund will be offered. \n 
URL:https://burrittonthemountain.com/event/visual-arts-watercolor-birding-2/
LOCATION:Burritt on the Mountain\, 3101 Burritt Dr.\, Huntsville\, AL\, 35801\, United States
CATEGORIES:Burritt Folk School,Fall,Featured Events,Winter,winter folk school,wintering
ATTACH;FMTTYPE=image/jpeg:https://burrittonthemountain.b-cdn.net/app/uploads/2026/01/birds-watercolor.jpg
GEO:34.7159424;-86.5395748
X-APPLE-STRUCTURED-LOCATION;VALUE=URI;X-ADDRESS=Burritt on the Mountain 3101 Burritt Dr. Huntsville AL 35801 United States;X-APPLE-RADIUS=500;X-TITLE=3101 Burritt Dr.:geo:-86.5395748,34.7159424
END:VEVENT
END:VCALENDAR