BEGIN:VCALENDAR
VERSION:2.0
PRODID:-//Burritt On The Mountain - ECPv6.15.16//NONSGML v1.0//EN
CALSCALE:GREGORIAN
METHOD:PUBLISH
X-WR-CALNAME:Burritt On The Mountain
X-ORIGINAL-URL:https://burrittonthemountain.com
X-WR-CALDESC:Events for Burritt On The Mountain
REFRESH-INTERVAL;VALUE=DURATION:PT1H
X-Robots-Tag:noindex
X-PUBLISHED-TTL:PT1H
BEGIN:VTIMEZONE
TZID:America/Chicago
BEGIN:DAYLIGHT
TZOFFSETFROM:-0600
TZOFFSETTO:-0500
TZNAME:CDT
DTSTART:20240310T080000
END:DAYLIGHT
BEGIN:STANDARD
TZOFFSETFROM:-0500
TZOFFSETTO:-0600
TZNAME:CST
DTSTART:20241103T070000
END:STANDARD
BEGIN:DAYLIGHT
TZOFFSETFROM:-0600
TZOFFSETTO:-0500
TZNAME:CDT
DTSTART:20250309T080000
END:DAYLIGHT
BEGIN:STANDARD
TZOFFSETFROM:-0500
TZOFFSETTO:-0600
TZNAME:CST
DTSTART:20251102T070000
END:STANDARD
BEGIN:DAYLIGHT
TZOFFSETFROM:-0600
TZOFFSETTO:-0500
TZNAME:CDT
DTSTART:20260308T080000
END:DAYLIGHT
BEGIN:STANDARD
TZOFFSETFROM:-0500
TZOFFSETTO:-0600
TZNAME:CST
DTSTART:20261101T070000
END:STANDARD
END:VTIMEZONE
BEGIN:VEVENT
DTSTART;TZID=America/Chicago:20250819T090000
DTEND;TZID=America/Chicago:20250819T143000
DTSTAMP:20260423T040309
CREATED:20250520T154248Z
LAST-MODIFIED:20250708T122039Z
UID:10000721-1755594000-1755613800@burrittonthemountain.com
SUMMARY:Weekday Series: “Building Glass on a Form”
DESCRIPTION:Deadline to Register: August 12th at 5:00pm \nTitle: Weekday Series: “Building Glass on a Form” \nDescription: This intermediate class is about learning how to build a 3d glass piece by building on a form.  We will work through how to create strength in an open structure glass piece as well as discuss positive and negative space and how color and shape can be used to help move the eye through the glass artwork.  This will open a door to a new expression in your glass art.  Previous experience with copper foil is required. \nInstructor:  This class will be taught by local artist and Burritt Folk School Principle Instructor\, Karen Reed. Karen Reed (Earthstar Glass) has been an art glass professional for over 40 years. Her work has been purchased for private collections in several countries\, was requested for Christmas display at The White House\, and is carried in galleries in several states. She has been a published\, contributing editor for GLASS Craftsman magazine for 13 years.  She has also written for : International Guild of Glass Artist’s publication: Common Ground Glass\, Glass Art\, Fired Arts\, The Crafts Report and the e-magazine artglassinfo.com  Teaching is a major component of Karen’s work and she has previously taught at folk schools in nine states including John C. Campbell Folk School in Brasstown\, NC\, Arrowmont School for Arts & Crafts and The Appalachian Center for Craft. She had been at Burritt Folk School for the last six years. Locally her work is available in Josie’s Gift Shop at Burritt on the Mountain and in The Huntsville Art League (Lowe Mill) \n \nSupplies and Attire: All materials and supplies will be provided. Students should wear close-toed shoes. \nTime: Tuesday\, August 19 (9:00am – 2:30pm) \nTuition: $95.00 \nSupply Fee: $20.00 \nLevel:  Intermediate \n~~~~~~ \nImportant Information: Registering for a workshop indicates that the student is 19 years of age or older and understands that photographs/video may be taken during the event and their image may be used on Burritt on the Mountain’s website and social media outlets or other promotional materials. Registration also indicates that the student releases Burritt on the Mountain and the City of Huntsville\, all their directors\, employees\, volunteers\, and any persons associated with Burritt on the Mountain\, from any liability for any bodily injury and/or property damage suffered by the attendee as a result of actives during the educational program. \nCancelation Policy:  Our workshops take a great deal of advance planning and purchasing of supplies. 25% of all ticket purchases are a non-refundable deposit. Students that cancel 30 days or more prior to the date of the class will be eligible for a refund\, minus the non-refundable deposit. No refunds will be issued less than 30 days from the start date of a class.*  To be fair and consistent\, there can be no exceptions to this policy\, regardless for the reason a cancelation is requested. \nThank you for understanding that this policy is in place to protect our artist instructors who spend time\, energy\, and money to create an amazing learning experience.  \n*We require a minimum number of students to hold a class. If this minimum is not met\, the class may be canceled or rescheduled. In this case\, a full refund will be offered.
URL:https://burrittonthemountain.com/event/weekday-series-building-glass-on-a-form/
LOCATION:Burritt on the Mountain\, 3101 Burritt Dr.\, Huntsville\, AL\, 35801\, United States
CATEGORIES:Featured Events,Folk School Weekday Series,Summer
ATTACH;FMTTYPE=image/jpeg:https://burrittonthemountain.b-cdn.net/app/uploads/2025/05/Karen-Reed-Form-scaled.jpg
GEO:34.7159424;-86.5395748
X-APPLE-STRUCTURED-LOCATION;VALUE=URI;X-ADDRESS=Burritt on the Mountain 3101 Burritt Dr. Huntsville AL 35801 United States;X-APPLE-RADIUS=500;X-TITLE=3101 Burritt Dr.:geo:-86.5395748,34.7159424
END:VEVENT
END:VCALENDAR