BEGIN:VCALENDAR
VERSION:2.0
PRODID:-//Burritt On The Mountain - ECPv6.15.16//NONSGML v1.0//EN
CALSCALE:GREGORIAN
METHOD:PUBLISH
X-WR-CALNAME:Burritt On The Mountain
X-ORIGINAL-URL:https://burrittonthemountain.com
X-WR-CALDESC:Events for Burritt On The Mountain
REFRESH-INTERVAL;VALUE=DURATION:PT1H
X-Robots-Tag:noindex
X-PUBLISHED-TTL:PT1H
BEGIN:VTIMEZONE
TZID:America/Chicago
BEGIN:DAYLIGHT
TZOFFSETFROM:-0600
TZOFFSETTO:-0500
TZNAME:CDT
DTSTART:20250309T080000
END:DAYLIGHT
BEGIN:STANDARD
TZOFFSETFROM:-0500
TZOFFSETTO:-0600
TZNAME:CST
DTSTART:20251102T070000
END:STANDARD
BEGIN:DAYLIGHT
TZOFFSETFROM:-0600
TZOFFSETTO:-0500
TZNAME:CDT
DTSTART:20260308T080000
END:DAYLIGHT
BEGIN:STANDARD
TZOFFSETFROM:-0500
TZOFFSETTO:-0600
TZNAME:CST
DTSTART:20261101T070000
END:STANDARD
BEGIN:DAYLIGHT
TZOFFSETFROM:-0600
TZOFFSETTO:-0500
TZNAME:CDT
DTSTART:20270314T080000
END:DAYLIGHT
BEGIN:STANDARD
TZOFFSETFROM:-0500
TZOFFSETTO:-0600
TZNAME:CST
DTSTART:20271107T070000
END:STANDARD
END:VTIMEZONE
BEGIN:VEVENT
DTSTART;TZID=America/Chicago:20260312T090000
DTEND;TZID=America/Chicago:20260312T153000
DTSTAMP:20260422T172337
CREATED:20260122T163916Z
LAST-MODIFIED:20260307T193715Z
UID:10000805-1773306000-1773329400@burrittonthemountain.com
SUMMARY:Week Day Series Stained Glass: “Dragonfly Panel”
DESCRIPTION:Deadline to Register: March 10th at 5:00pm \nTitle: Weekday Series Stained Glass: “Dragonfly Panel” \nDescription:  This stained glass panel has two layers\, the base layer and the magical dragonfly.  The class will cover all aspects of building a panel plus how to construct and attach an overlay. Two classes in one session!   Beginners are welcome. There will be a half-hour lunch break during this class. We recommend you bring a lunch from home. \n  \nInstructor: Karen Reed has been an art glass professional for over 35 years. Her work has been purchased for private collections in several countries\, was requested for Christmas display at The White House\, and is carried in galleries in four states. She has been a published\, contributing editor for GLASS Craftsman magazine for 13 years. She has also written for: International Guild of Glass Artists publication: Common Ground Glass\, Glass Art\, the e-magazine artglassinfo.com\, Fired Arts and Crafts and The Crafts Report. Teaching is a major component of Karen’s work. She has previously taught at the John C. Campbell Folk School in Brasstown\, NC and has delighted in teaching at Arrowmont School for Arts & Crafts and Appalachian Center for Crafts for over a decade. Locally\, her work is available at The Huntsville Museum of Art and The Huntsville Art League (Lowe Mill). \nSupplies and Attire: All materials and supplies will be provided. Students should wear closed-toe shoes. \nTime: Thursday\, March 12th (9:00am – 3:30pm) \nTuition: $105.00 \nSupply Fee: $25.00 \nLevel:  All Levels \n~~~~~~ \nImportant Information: Registering for a workshop indicates that the student is 19 years of age or older and understands that photographs/video may be taken during the event and their image may be used on Burritt on the Mountain’s website and social media outlets or other promotional materials. Registration also indicates that the student releases Burritt on the Mountain and the City of Huntsville\, all their directors\, employees\, volunteers\, and any persons associated with Burritt on the Mountain\, from any liability for any bodily injury and/or property damage suffered by the attendee as a result of activities during the educational program. \nCancellation Policy:  Our workshops take a great deal of advanced planning and purchasing of supplies. 25% of all ticket purchases are a non-refundable deposit. Students cancelling 30 days or more prior to the date of the class will be eligible for a refund\, minus the non-refundable deposit. No refunds will be issued less than 30 days from the start date of a class.*  To be fair and consistent\, there can be no exceptions to this policy\, regardless the reason a cancellation is requested. \nThank you for understanding that this policy is in place to protect our artist instructors who spend time\, energy\, and money to create an amazing learning experience.  \n*We require a minimum number of students to hold a class. If this minimum is not met\, the class may be cancelled or rescheduled. In this case\, a full refund will be offered.
URL:https://burrittonthemountain.com/event/week-day-series-stained-glass-dragonfly-panel/
LOCATION:Burritt on the Mountain\, 3101 Burritt Dr.\, Huntsville\, AL\, 35801\, United States
CATEGORIES:Burritt Folk School,Featured Events,Folk School Weekday Series,Winter,winter folk school
ATTACH;FMTTYPE=image/jpeg:https://burrittonthemountain.b-cdn.net/app/uploads/2024/01/Karen-Reed-Dragonfly-Panel.jpg
GEO:34.7159424;-86.5395748
X-APPLE-STRUCTURED-LOCATION;VALUE=URI;X-ADDRESS=Burritt on the Mountain 3101 Burritt Dr. Huntsville AL 35801 United States;X-APPLE-RADIUS=500;X-TITLE=3101 Burritt Dr.:geo:-86.5395748,34.7159424
END:VEVENT
BEGIN:VEVENT
DTSTART;TZID=America/Chicago:20260312T183000
DTEND;TZID=America/Chicago:20260312T203000
DTSTAMP:20260422T172337
CREATED:20251206T195422Z
LAST-MODIFIED:20260310T142701Z
UID:10000796-1773340200-1773347400@burrittonthemountain.com
SUMMARY:Weekday Series: Sourdough
DESCRIPTION:Deadline to Register: March 10th at 5pm \nTitle: Weekday Series: “Sourdough” \nDescription: In this hands-on class\, participants will gain the knowledge and experience to confidently bake their own sourdough  at home. Students can expect to bring home a loaf of sourdough to bake the following day\, their own sourdough Mother (which is over 100 years old) for continued baking\, and a tea towel. Participants will also enjoy refreshments during the workshop time.  \nInstructor: Lemon & Lavender \n Supplies and Attire: Please bring your own large mixing bowl and an apron. All other supplies will be provided. \nTime: Thursday\, March 12th\, 6:30-8:30pm \nTuition: $70.00 \nSupply Fee: None \nLevel: Beginner \nLemon & Lavender is an all-natural eco-friendly store in the heart of downtown Madison. They feature workshops that are centered around sustainability\, all-natural living as well as a back-to-the-basics component \n~~~~~~ \nImportant Information: Registering for a workshop indicates that the student is 19 years of age or older and understands that photographs/video may be taken during the event and their image may be used on Burritt on the Mountain’s website and social media outlets or other promotional materials. Registration also indicates that the student releases Burritt on the Mountain and the City of Huntsville\, all their directors\, employees\, volunteers\, and any persons associated with Burritt on the Mountain\, from any liability for any bodily injury and/or property damage suffered by the attendee as a result of actives during the educational program. \nCancelation Policy:  Our workshops take a great deal of advance planning and purchasing of supplies. 25% of all ticket purchases are a non-refundable deposit. Students that cancel 30 days or more prior to the date of the class will be eligible for a refund\, minus the non-refundable deposit. No refunds will be issued less than 30 days from the start date of a class.*  To be fair and consistent\, there can be no exceptions to this policy\, regardless for the reason a cancelation is requested. \nThank you for understanding that this policy is in place to protect our artist instructors who spend time\, energy\, and money to create an amazing learning experience.  \n*We require a minimum number of students to hold a class. If this minimum is not met\, the class may be canceled or rescheduled. In this case\, a full refund will be offered.
URL:https://burrittonthemountain.com/event/sourdough-2/
LOCATION:Burritt on the Mountain\, 3101 Burritt Dr.\, Huntsville\, AL\, 35801\, United States
CATEGORIES:Burritt Folk School,Featured Events,Folk School Weekday Series,Spring
ATTACH;FMTTYPE=image/jpeg:https://burrittonthemountain.b-cdn.net/app/uploads/2025/07/IMG_8634.jpg
GEO:34.7159424;-86.5395748
X-APPLE-STRUCTURED-LOCATION;VALUE=URI;X-ADDRESS=Burritt on the Mountain 3101 Burritt Dr. Huntsville AL 35801 United States;X-APPLE-RADIUS=500;X-TITLE=3101 Burritt Dr.:geo:-86.5395748,34.7159424
END:VEVENT
BEGIN:VEVENT
DTSTART;TZID=America/Chicago:20260317T090000
DTEND;TZID=America/Chicago:20260317T160000
DTSTAMP:20260422T172337
CREATED:20260203T203311Z
LAST-MODIFIED:20260203T204817Z
UID:10000816-1773738000-1773763200@burrittonthemountain.com
SUMMARY:Weekday Series: Blacksmithing - “Grilling Tools”
DESCRIPTION:Deadline to Register: March 10th\, 202a t 5:00pm \nWorkshop: Weekday Series: Blacksmithing – “Grilling Tools” \nDescription: This class will focus on several basic forging fundamentals.  Using the forge\, anvil\, and basic hand tools and techniques\, students will forge a spatula\, and a steak turner. The class will focus on hammer control using full\, and half face blows\, to taper\, draw\, bend\, and rivet. \nPlease note: There will be a lunch break of approximately one hour. Please bring a lunch from home or plan to drive a short distance and return within an hour. \nInstructor: Al Stephens has recently retired having been a professional blacksmithing since 1992. He is a member of the Athens Forge chapter of the Alabama Forge Council. Al has taught classes for Burritt on the Mountain and Athens State University and demonstrated at local blacksmithing meetings. He is a member of the Alabama Forge Council. He has taught classes for Burritt on the Mountain and Athens State University and demonstrated at local blacksmithing meetings. \nSupplies and Attire: Students should supply their own safety glasses if they have them. All other materials and tools will be supplied. Students should wear “work” clothes. Jeans and cotton shirts (or other cotton clothing) are recommended. Closed-toe shoes with socks are required. NO sandals or crocs\, please. Leather work gloves are optional. Please note that this class requires standing throughout the day. \nTime: Tuesday\, May 20th\, 2025 (9:00am-4:00pm) \nTuition: $110.00\nSupply Fee: $25.00\nLevel: Beginner/Novice \n~~~~~~~ \nImportant Information: Registering for a workshop indicates that the student is 19 years of age or older and understands that photographs/video may be taken during the event and their image may be used on Burritt on the Mountain’s website and social media outlets or other promotional materials. Registration also indicates that the student releases Burritt on the Mountain and the City of Huntsville\, all their directors\, employees\, volunteers\, and any persons associated with Burritt on the Mountain\, from any liability for any bodily injury and/or property damage suffered by the attendee as a result of actives during the educational program. \nCancelation Policy:  Our workshops take a great deal of advance planning and purchasing of supplies. 25% of all ticket purchases are a non-refundable deposit. Students that cancel 30 days or more prior to the date of the class will be eligible for a refund\, minus the non-refundable deposit. No refunds will be issued less than 30 days from the start date of a class.*  To be fair and consistent\, there can be no exceptions to this policy\, regardless for the reason a cancelation is requested. \nThank you for understanding that this policy is in place to protect our artist instructors who spend time\, energy\, and money to create an amazing learning experience. 
URL:https://burrittonthemountain.com/event/weekday-series-grilling-tools-4/
LOCATION:Burritt on the Mountain\, 3101 Burritt Dr.\, Huntsville\, AL\, 35801\, United States
CATEGORIES:Burritt Folk School,Featured Events,Folk School Weekday Series,Spring,Summer
ATTACH;FMTTYPE=image/webp:https://burrittonthemountain.b-cdn.net/app/uploads/2024/01/another-blacksmith-1.webp
GEO:34.7159424;-86.5395748
X-APPLE-STRUCTURED-LOCATION;VALUE=URI;X-ADDRESS=Burritt on the Mountain 3101 Burritt Dr. Huntsville AL 35801 United States;X-APPLE-RADIUS=500;X-TITLE=3101 Burritt Dr.:geo:-86.5395748,34.7159424
END:VEVENT
END:VCALENDAR