BEGIN:VCALENDAR
VERSION:2.0
PRODID:-//Burritt On The Mountain - ECPv6.15.16//NONSGML v1.0//EN
CALSCALE:GREGORIAN
METHOD:PUBLISH
X-ORIGINAL-URL:https://burrittonthemountain.com
X-WR-CALDESC:Events for Burritt On The Mountain
REFRESH-INTERVAL;VALUE=DURATION:PT1H
X-Robots-Tag:noindex
X-PUBLISHED-TTL:PT1H
BEGIN:VTIMEZONE
TZID:America/Chicago
BEGIN:DAYLIGHT
TZOFFSETFROM:-0600
TZOFFSETTO:-0500
TZNAME:CDT
DTSTART:20240310T080000
END:DAYLIGHT
BEGIN:STANDARD
TZOFFSETFROM:-0500
TZOFFSETTO:-0600
TZNAME:CST
DTSTART:20241103T070000
END:STANDARD
BEGIN:DAYLIGHT
TZOFFSETFROM:-0600
TZOFFSETTO:-0500
TZNAME:CDT
DTSTART:20250309T080000
END:DAYLIGHT
BEGIN:STANDARD
TZOFFSETFROM:-0500
TZOFFSETTO:-0600
TZNAME:CST
DTSTART:20251102T070000
END:STANDARD
BEGIN:DAYLIGHT
TZOFFSETFROM:-0600
TZOFFSETTO:-0500
TZNAME:CDT
DTSTART:20260308T080000
END:DAYLIGHT
BEGIN:STANDARD
TZOFFSETFROM:-0500
TZOFFSETTO:-0600
TZNAME:CST
DTSTART:20261101T070000
END:STANDARD
END:VTIMEZONE
BEGIN:VEVENT
DTSTART;TZID=America/Chicago:20250904T180000
DTEND;TZID=America/Chicago:20250904T210000
DTSTAMP:20260424T024634
CREATED:20250721T172948Z
LAST-MODIFIED:20250721T173023Z
UID:10000736-1757008800-1757019600@burrittonthemountain.com
SUMMARY:Burritt Foundation Sock Hop Fundraiser
DESCRIPTION:September 4th     |     6pm – 9pm     |     Baron Bluff at Burritt on the Mountain \nAttire  – 1950s style     |     Cash Bar \n\nDance Lessons provided by Huntsville Swing Dance Society\n1950s Style Meal  & Dessert\nBest Dressed Costume Winner\nAntique Car Display\n\nPurchase Tickets Here!
URL:https://burrittonthemountain.com/event/burritt-foundation-sock-hop-fundraiser/
LOCATION:Burritt on the Mountain\, 3101 Burritt Dr.\, Huntsville\, AL\, 35801\, United States
CATEGORIES:70th Celebration,Featured Events,Fundraiser
ATTACH;FMTTYPE=image/jpeg:https://burrittonthemountain.b-cdn.net/app/uploads/2025/07/Burritt-Foundation-Rock-Around-the-Clock-Save-teh-Date-002-1-e1753112450847.jpg
GEO:34.7159424;-86.5395748
X-APPLE-STRUCTURED-LOCATION;VALUE=URI;X-ADDRESS=Burritt on the Mountain 3101 Burritt Dr. Huntsville AL 35801 United States;X-APPLE-RADIUS=500;X-TITLE=3101 Burritt Dr.:geo:-86.5395748,34.7159424
END:VEVENT
END:VCALENDAR