BEGIN:VCALENDAR
VERSION:2.0
PRODID:-//Burritt On The Mountain - ECPv6.15.16//NONSGML v1.0//EN
CALSCALE:GREGORIAN
METHOD:PUBLISH
X-WR-CALNAME:Burritt On The Mountain
X-ORIGINAL-URL:https://burrittonthemountain.com
X-WR-CALDESC:Events for Burritt On The Mountain
REFRESH-INTERVAL;VALUE=DURATION:PT1H
X-Robots-Tag:noindex
X-PUBLISHED-TTL:PT1H
BEGIN:VTIMEZONE
TZID:America/Chicago
BEGIN:DAYLIGHT
TZOFFSETFROM:-0600
TZOFFSETTO:-0500
TZNAME:CDT
DTSTART:20250309T080000
END:DAYLIGHT
BEGIN:STANDARD
TZOFFSETFROM:-0500
TZOFFSETTO:-0600
TZNAME:CST
DTSTART:20251102T070000
END:STANDARD
BEGIN:DAYLIGHT
TZOFFSETFROM:-0600
TZOFFSETTO:-0500
TZNAME:CDT
DTSTART:20260308T080000
END:DAYLIGHT
BEGIN:STANDARD
TZOFFSETFROM:-0500
TZOFFSETTO:-0600
TZNAME:CST
DTSTART:20261101T070000
END:STANDARD
BEGIN:DAYLIGHT
TZOFFSETFROM:-0600
TZOFFSETTO:-0500
TZNAME:CDT
DTSTART:20270314T080000
END:DAYLIGHT
BEGIN:STANDARD
TZOFFSETFROM:-0500
TZOFFSETTO:-0600
TZNAME:CST
DTSTART:20271107T070000
END:STANDARD
END:VTIMEZONE
BEGIN:VEVENT
DTSTART;TZID=America/Chicago:20260321T103000
DTEND;TZID=America/Chicago:20260321T113000
DTSTAMP:20260424T132946
CREATED:20260128T190141Z
LAST-MODIFIED:20260128T190141Z
UID:10000811-1774089000-1774092600@burrittonthemountain.com
SUMMARY:Makers on the Mountain: Spring Foraging Plant Walk-Eat your Weeds
DESCRIPTION:Makers on the Mountain: Spring Foraging Plant Walk-Eat your Weeds  \nMarch 21  | 10:30-11:30am & 1:00-2:00pm | \n\nEnjoy an informative plant hike highlighting fresh spring growth and the many culinary and medicinal uses of spring plants often dismissed as “weeds.” \n\nIncluded in Burritt admission\, free to members.
URL:https://burrittonthemountain.com/event/makers-on-the-mountain-spring-foraging-plant-walk-eat-your-weeds/2026-03-21/1/
LOCATION:Burritt on the Mountain\, 3101 Burritt Dr.\, Huntsville\, AL\, 35801\, United States
CATEGORIES:Historic Park,Makers on the Mountain
ATTACH;FMTTYPE=image/jpeg:https://burrittonthemountain.b-cdn.net/app/uploads/2026/01/E14CDDAC-6CDD-4E4E-8459-0D81B12E8D71-scaled-e1769626857938.jpeg
GEO:34.7159424;-86.5395748
X-APPLE-STRUCTURED-LOCATION;VALUE=URI;X-ADDRESS=Burritt on the Mountain 3101 Burritt Dr. Huntsville AL 35801 United States;X-APPLE-RADIUS=500;X-TITLE=3101 Burritt Dr.:geo:-86.5395748,34.7159424
END:VEVENT
BEGIN:VEVENT
DTSTART;TZID=America/Chicago:20260321T130000
DTEND;TZID=America/Chicago:20260321T140000
DTSTAMP:20260424T132946
CREATED:20260128T190141Z
LAST-MODIFIED:20260128T190141Z
UID:10000812-1774098000-1774101600@burrittonthemountain.com
SUMMARY:Makers on the Mountain: Spring Foraging Plant Walk-Eat your Weeds
DESCRIPTION:Makers on the Mountain: Spring Foraging Plant Walk-Eat your Weeds  \nMarch 21  | 10:30-11:30am & 1:00-2:00pm | \n\nEnjoy an informative plant hike highlighting fresh spring growth and the many culinary and medicinal uses of spring plants often dismissed as “weeds.” \n\nIncluded in Burritt admission\, free to members.
URL:https://burrittonthemountain.com/event/makers-on-the-mountain-spring-foraging-plant-walk-eat-your-weeds/2026-03-21/2/
LOCATION:Burritt on the Mountain\, 3101 Burritt Dr.\, Huntsville\, AL\, 35801\, United States
CATEGORIES:Historic Park,Makers on the Mountain
ATTACH;FMTTYPE=image/jpeg:https://burrittonthemountain.b-cdn.net/app/uploads/2026/01/E14CDDAC-6CDD-4E4E-8459-0D81B12E8D71-scaled-e1769626857938.jpeg
GEO:34.7159424;-86.5395748
X-APPLE-STRUCTURED-LOCATION;VALUE=URI;X-ADDRESS=Burritt on the Mountain 3101 Burritt Dr. Huntsville AL 35801 United States;X-APPLE-RADIUS=500;X-TITLE=3101 Burritt Dr.:geo:-86.5395748,34.7159424
END:VEVENT
END:VCALENDAR