BEGIN:VCALENDAR
VERSION:2.0
PRODID:-//Burritt On The Mountain - ECPv6.15.16//NONSGML v1.0//EN
CALSCALE:GREGORIAN
METHOD:PUBLISH
X-WR-CALNAME:Burritt On The Mountain
X-ORIGINAL-URL:https://burrittonthemountain.com
X-WR-CALDESC:Events for Burritt On The Mountain
REFRESH-INTERVAL;VALUE=DURATION:PT1H
X-Robots-Tag:noindex
X-PUBLISHED-TTL:PT1H
BEGIN:VTIMEZONE
TZID:America/Chicago
BEGIN:DAYLIGHT
TZOFFSETFROM:-0600
TZOFFSETTO:-0500
TZNAME:CDT
DTSTART:20250309T080000
END:DAYLIGHT
BEGIN:STANDARD
TZOFFSETFROM:-0500
TZOFFSETTO:-0600
TZNAME:CST
DTSTART:20251102T070000
END:STANDARD
BEGIN:DAYLIGHT
TZOFFSETFROM:-0600
TZOFFSETTO:-0500
TZNAME:CDT
DTSTART:20260308T080000
END:DAYLIGHT
BEGIN:STANDARD
TZOFFSETFROM:-0500
TZOFFSETTO:-0600
TZNAME:CST
DTSTART:20261101T070000
END:STANDARD
BEGIN:DAYLIGHT
TZOFFSETFROM:-0600
TZOFFSETTO:-0500
TZNAME:CDT
DTSTART:20270314T080000
END:DAYLIGHT
BEGIN:STANDARD
TZOFFSETFROM:-0500
TZOFFSETTO:-0600
TZNAME:CST
DTSTART:20271107T070000
END:STANDARD
END:VTIMEZONE
BEGIN:VEVENT
DTSTART;TZID=America/Chicago:20260501T180000
DTEND;TZID=America/Chicago:20260501T200000
DTSTAMP:20260424T214149
CREATED:20260324T173419Z
LAST-MODIFIED:20260324T173620Z
UID:10000866-1777658400-1777665600@burrittonthemountain.com
SUMMARY:British Invasion Dinner
DESCRIPTION:British Invasion Dinner Buffet featuring The Beatles Tribute Band 3 Savile Row\nCelebrate America250 at Burritt with an evening like no other. Enjoy immersive entertainment and delightful cuisine. \n \n\nBegin your night mingling while sampling a signature British Cocktail.\nTake a commemorative photo with a historic figure from the Tennessee Valley SAR Color Guard. This event is truly one-of-a-kind.\nEnjoy a dinner buffet featuring authentic British pub favorites to suit all tastes.\nExperience an energetic performance by the Beatles Tribute Band 3 Savile Row. They provide live British beats and capture the spirit of the Invasion during your meal.\n\nSeating is open\, or enhance your experience by purchasing a VIP Reserved Table for six guests. \nShow your spirit in red\, white\, and blue. Fun and celebration await! Smart casual dress attire is encouraged. \nFull Bar available with card or cash purchases. \n\nDinner Menu \nAppetizers \nCucumber Cream Cheese Sandwiches  |  Sausage Rolls \nBuffet \nPub Salad – Greens\, Cucumber\, Tomato\, Red Onion\, Grated Cheddar and Pickled Beetroot \nFish and Chips  |  Traditional Cottage Pie \nVegetarian Shepherd’s Pie \nBritish Runner Beans \nDessert – Patriotic Cherry Cobbler \n\n 
URL:https://burrittonthemountain.com/event/british-invasion-dinner/
LOCATION:Burritt on the Mountain\, 3101 Burritt Dr.\, Huntsville\, AL\, 35801\, United States
CATEGORIES:Featured Events,Spring,The View
ATTACH;FMTTYPE=image/jpeg:https://burrittonthemountain.b-cdn.net/app/uploads/2026/03/british-flag-scaled.jpg
GEO:34.7159424;-86.5395748
X-APPLE-STRUCTURED-LOCATION;VALUE=URI;X-ADDRESS=Burritt on the Mountain 3101 Burritt Dr. Huntsville AL 35801 United States;X-APPLE-RADIUS=500;X-TITLE=3101 Burritt Dr.:geo:-86.5395748,34.7159424
END:VEVENT
END:VCALENDAR